BEGIN:VCALENDAR
VERSION:2.0
PRODID:-//Plone.org//NONSGML plone.app.event//EN
X-WR-TIMEZONE:Europe/Rome
BEGIN:VEVENT
SUMMARY:LE SPEZIE E GLI AROMI DI CASA NOSTRA
DTSTART;TZID=Europe/Rome;VALUE=DATE-TIME:20251030T203000
DTEND;TZID=Europe/Rome;VALUE=DATE-TIME:20251030T223000
DTSTAMP;VALUE=DATE-TIME:20260421T172649Z
UID:b3d96e6c7f7a41be9b5e09e4f8e14122@www.baccanaleimola.it
CATEGORIES:Baccanale 2025,spezie
CREATED;VALUE=DATE-TIME:20250915T110152Z
DESCRIPTION:Incontro serale per conoscere usi e curiosità delle piante ut
 ilizzate in cucina\, dalle esotiche\, usate secche\, alle nostrane\, colti
 vate negli orti e legate alla cucina popolare. Con Manuela Krak (CAI Imola
 ).
LAST-MODIFIED;VALUE=DATE-TIME:20251028T082401Z
URL:https://www.baccanaleimola.it/api/programma/le-spezie-e-gli-aromi-di-c
 asa-nostra
END:VEVENT
BEGIN:VTIMEZONE
TZID:Europe/Rome
X-LIC-LOCATION:Europe/Rome
BEGIN:STANDARD
DTSTART;VALUE=DATE-TIME:20251026T020000
TZNAME:CET
TZOFFSETFROM:+0200
TZOFFSETTO:+0100
END:STANDARD
END:VTIMEZONE
END:VCALENDAR
