BEGIN:VCALENDAR
VERSION:2.0
PRODID:-//Plone.org//NONSGML plone.app.event//EN
X-WR-TIMEZONE:Europe/Rome
BEGIN:VEVENT
SUMMARY:LE SPEZIE E GLI AROMI DI CASA NOSTRA
DTSTART;TZID=Europe/Rome;VALUE=DATE-TIME:20251102T100000
DTEND;TZID=Europe/Rome;VALUE=DATE-TIME:20251102T113000
DTSTAMP;VALUE=DATE-TIME:20260421T173730Z
UID:72c970473eff4affac63c1983ef25a05@www.baccanaleimola.it
CATEGORIES:Baccanale 2025,spezie,visita guidata
CREATED;VALUE=DATE-TIME:20250915T113637Z
DESCRIPTION:Visita guidata all’interno del Giardino delle Erbe di Casola
  Valsenio\, alla scoperta delle tante piante aromatiche presenti e delle l
 oro caratteristiche. Con Antonio Zambrini (CAI Imola)\nA cura del CEAS Cir
 condario Imolese – Polo didattico Bosco della Frattona\, in collaborazio
 ne con CAI Imola.\n
LAST-MODIFIED;VALUE=DATE-TIME:20250917T085222Z
URL:https://www.baccanaleimola.it/api/programma/le-spezie-e-gli-aromi-di-c
 asa-nostra-1
END:VEVENT
BEGIN:VTIMEZONE
TZID:Europe/Rome
X-LIC-LOCATION:Europe/Rome
BEGIN:STANDARD
DTSTART;VALUE=DATE-TIME:20251026T020000
TZNAME:CET
TZOFFSETFROM:+0200
TZOFFSETTO:+0100
END:STANDARD
END:VTIMEZONE
END:VCALENDAR
