BEGIN:VCALENDAR
VERSION:2.0
PRODID:-//Plone.org//NONSGML plone.app.event//EN
X-WR-TIMEZONE:Europe/Rome
BEGIN:VEVENT
SUMMARY:Le spezialità in Romagna
DTSTART;TZID=Europe/Rome;VALUE=DATE-TIME:20251115T103000
DTEND;TZID=Europe/Rome;VALUE=DATE-TIME:20251115T120000
DTSTAMP;VALUE=DATE-TIME:20260421T154950Z
UID:a14d48d110fa40e19dffc9d60a5166d7@www.baccanaleimola.it
CATEGORIES:Baccanale 2025,laboratorio,per bambini,spezie
CREATED;VALUE=DATE-TIME:20251009T073909Z
DESCRIPTION:L’uso delle spezie e delle erbe aromatiche nella cucina emil
 iano-romagnola. I bambini realizzeranno la salamoia per insaporire i cibi.
  \nInfo e prenotazioni: 349 3671918
LAST-MODIFIED;VALUE=DATE-TIME:20251009T073947Z
URL:https://www.baccanaleimola.it/api/programma/le-spezialita-in-romagna
END:VEVENT
BEGIN:VTIMEZONE
TZID:Europe/Rome
X-LIC-LOCATION:Europe/Rome
BEGIN:STANDARD
DTSTART;VALUE=DATE-TIME:20251026T020000
TZNAME:CET
TZOFFSETFROM:+0200
TZOFFSETTO:+0100
END:STANDARD
END:VTIMEZONE
END:VCALENDAR
