BEGIN:VCALENDAR
VERSION:2.0
PRODID:-//Plone.org//NONSGML plone.app.event//EN
X-WR-TIMEZONE:Europe/Rome
BEGIN:VEVENT
SUMMARY:LABORATORIO PRATICO\, “GLI STRICHETTI” – CASA ARTUSI
DTSTART;TZID=Europe/Rome;VALUE=DATE-TIME:20251109T160000
DTEND;TZID=Europe/Rome;VALUE=DATE-TIME:20251109T170000
DTSTAMP;VALUE=DATE-TIME:20260421T173848Z
UID:a576a9d037d64e2db74c139d1ea77578@www.baccanaleimola.it
CATEGORIES:Baccanale 2025,spezie,laboratorio
CREATED;VALUE=DATE-TIME:20250916T095433Z
DESCRIPTION:Ciascun partecipante mette le “mani in pasta” e prepara il
  proprio panetto di sfoglia e realizza i principali e classici tagli di pa
 sta fresca \nInfo e prenotazioni: attivita.culturali@comune.imola.bo.it 
 – 0542 602300
LAST-MODIFIED;VALUE=DATE-TIME:20251017T082009Z
URL:https://www.baccanaleimola.it/api/programma/laboratorio-pratico-201cgl
 i-strichetti201d-2013-casa-artusi
END:VEVENT
BEGIN:VTIMEZONE
TZID:Europe/Rome
X-LIC-LOCATION:Europe/Rome
BEGIN:STANDARD
DTSTART;VALUE=DATE-TIME:20251026T020000
TZNAME:CET
TZOFFSETFROM:+0200
TZOFFSETTO:+0100
END:STANDARD
END:VTIMEZONE
END:VCALENDAR
