BEGIN:VCALENDAR
VERSION:2.0
PRODID:-//Plone.org//NONSGML plone.app.event//EN
X-WR-TIMEZONE:Europe/Rome
BEGIN:VEVENT
SUMMARY:LABORATORI SPEZIALI! RICOSTRUZIONE STORICA DELLA SPEZIERIA DI DIOT
 AIUTI
DTSTART;TZID=Europe/Rome;VALUE=DATE-TIME:20251026T153000
DTEND;TZID=Europe/Rome;VALUE=DATE-TIME:20251026T170000
DTSTAMP;VALUE=DATE-TIME:20260421T155750Z
UID:7ccb892ee37d4b69a352330e68ebb7dc@www.baccanaleimola.it
RRULE:FREQ=WEEKLY;UNTIL=20251116T000000Z;INTERVAL=1;BYDAY=SU
CATEGORIES:Baccanale 2025,spezie,per bambini,laboratorio
CREATED;VALUE=DATE-TIME:20250915T092338Z
DESCRIPTION:Un viaggio sensoriale e creativo per scoprire il meraviglioso 
 mondo delle spezie nel Medioevo! 
LAST-MODIFIED;VALUE=DATE-TIME:20251016T111104Z
URL:https://www.baccanaleimola.it/api/programma/laboratori-speziali-ricost
 ruzione-storica-della-spezieria-di-diotaiuti
END:VEVENT
BEGIN:VTIMEZONE
TZID:Europe/Rome
X-LIC-LOCATION:Europe/Rome
BEGIN:STANDARD
DTSTART;VALUE=DATE-TIME:20251026T020000
TZNAME:CET
TZOFFSETFROM:+0200
TZOFFSETTO:+0100
END:STANDARD
END:VTIMEZONE
END:VCALENDAR
