BEGIN:VCALENDAR
VERSION:2.0
PRODID:-//Plone.org//NONSGML plone.app.event//EN
X-WR-TIMEZONE:Europe/Rome
BEGIN:VEVENT
SUMMARY:LA TAVOLA DELLE SPEZIE
DTSTART;TZID=Europe/Rome;VALUE=DATE-TIME:20251116T110000
DTEND;TZID=Europe/Rome;VALUE=DATE-TIME:20251116T180000
DTSTAMP;VALUE=DATE-TIME:20260421T172157Z
UID:99a343d14aa64c0e8f0ff3bcf921be39@www.baccanaleimola.it
CATEGORIES:Baccanale 2025,spezie,degustazione,cena,laboratorio,incontro
CREATED;VALUE=DATE-TIME:20250916T131835Z
DESCRIPTION:Dall'aperitivo alla merenda un viaggio nel mondo delle spezie 
 per chiudere il Baccanale.
LAST-MODIFIED;VALUE=DATE-TIME:20251017T082547Z
URL:https://www.baccanaleimola.it/api/programma/la-tavola-delle-spezie
END:VEVENT
BEGIN:VTIMEZONE
TZID:Europe/Rome
X-LIC-LOCATION:Europe/Rome
BEGIN:STANDARD
DTSTART;VALUE=DATE-TIME:20251026T020000
TZNAME:CET
TZOFFSETFROM:+0200
TZOFFSETTO:+0100
END:STANDARD
END:VTIMEZONE
END:VCALENDAR
