BEGIN:VCALENDAR
VERSION:2.0
PRODID:-//Plone.org//NONSGML plone.app.event//EN
X-WR-TIMEZONE:Europe/Rome
BEGIN:VEVENT
SUMMARY:LA STRAORDINARIA AVVENTURA DELLE SPEZIE
DTSTART;TZID=Europe/Rome;VALUE=DATE-TIME:20251025T173000
DTEND;TZID=Europe/Rome;VALUE=DATE-TIME:20251025T183000
DTSTAMP;VALUE=DATE-TIME:20260421T173730Z
UID:17fae6ee65bc44c58c948e183e69e81d@www.baccanaleimola.it
CATEGORIES:Baccanale 2025,spezie,incontro
CREATED;VALUE=DATE-TIME:20250915T082059Z
DESCRIPTION:Lezione magistrale di Massimo Montanari
LAST-MODIFIED;VALUE=DATE-TIME:20250917T085300Z
URL:https://www.baccanaleimola.it/api/programma/la-straordinaria-avventura
 -delle-spezie
END:VEVENT
BEGIN:VTIMEZONE
TZID:Europe/Rome
X-LIC-LOCATION:Europe/Rome
BEGIN:DAYLIGHT
DTSTART;VALUE=DATE-TIME:20250330T030000
TZNAME:CEST
TZOFFSETFROM:+0100
TZOFFSETTO:+0200
END:DAYLIGHT
END:VTIMEZONE
END:VCALENDAR
