BEGIN:VCALENDAR
VERSION:2.0
PRODID:-//Plone.org//NONSGML plone.app.event//EN
X-WR-TIMEZONE:Europe/Rome
BEGIN:VEVENT
SUMMARY:LA SPEZIERIA DI DIOTAIUTI. MERCI\, STORIE E PERSONE DI UNA BOTTEGA
  IMOLESE DEL TRECENTO
DTSTART;TZID=Europe/Rome;VALUE=DATE-TIME:20251029T203000
DTEND;TZID=Europe/Rome;VALUE=DATE-TIME:20251029T213000
DTSTAMP;VALUE=DATE-TIME:20260421T174208Z
UID:e5f46a0ef83941afbd63544ee99eb832@www.baccanaleimola.it
CATEGORIES:Baccanale 2025,presentazione,spezie
CREATED;VALUE=DATE-TIME:20250915T104731Z
DESCRIPTION:Presentazione del libro di Anna Attiliani (Tempo al Libro\, 20
 25). Dialoga con l’autrice Massimo Montanari. A cura dell’Associazione
  culturale Civitas Alidosiana
LAST-MODIFIED;VALUE=DATE-TIME:20250917T085930Z
URL:https://www.baccanaleimola.it/api/programma/la-spezieria-di-diotaiuti-
 merci-storie-e-persone-di-una-bottega-imolese-del-trecento
END:VEVENT
BEGIN:VTIMEZONE
TZID:Europe/Rome
X-LIC-LOCATION:Europe/Rome
BEGIN:STANDARD
DTSTART;VALUE=DATE-TIME:20251026T020000
TZNAME:CET
TZOFFSETFROM:+0200
TZOFFSETTO:+0100
END:STANDARD
END:VTIMEZONE
END:VCALENDAR
