BEGIN:VCALENDAR
VERSION:2.0
PRODID:-//Plone.org//NONSGML plone.app.event//EN
X-WR-TIMEZONE:Europe/Rome
BEGIN:VEVENT
SUMMARY:LA CUCINA ITALIANA PATRIMONIO UNESCO?
DTSTART;TZID=Europe/Rome;VALUE=DATE-TIME:20251026T110000
DTEND;TZID=Europe/Rome;VALUE=DATE-TIME:20251026T120000
DTSTAMP;VALUE=DATE-TIME:20260421T173747Z
UID:85d459af712c4104b25962c847a387e7@www.baccanaleimola.it
CATEGORIES:Baccanale 2025,spezie,incontro
CREATED;VALUE=DATE-TIME:20250915T091440Z
DESCRIPTION:Maddalena Fossati Dondero e Massimo Montanari presentano la ca
 ndidatura della cucina italiana come patrimonio culturale immateriale UNES
 CO.
LAST-MODIFIED;VALUE=DATE-TIME:20251020T092112Z
URL:https://www.baccanaleimola.it/api/programma/la-cucina-italiana-patrimo
 nio-unesco
END:VEVENT
BEGIN:VTIMEZONE
TZID:Europe/Rome
X-LIC-LOCATION:Europe/Rome
BEGIN:STANDARD
DTSTART;VALUE=DATE-TIME:20251026T020000
TZNAME:CET
TZOFFSETFROM:+0200
TZOFFSETTO:+0100
END:STANDARD
END:VTIMEZONE
END:VCALENDAR
