BEGIN:VCALENDAR
VERSION:2.0
PRODID:-//Plone.org//NONSGML plone.app.event//EN
X-WR-TIMEZONE:Europe/Rome
BEGIN:VEVENT
SUMMARY:LA BOTTEGA DI ZAFIRA
DTSTART;TZID=Europe/Rome;VALUE=DATE-TIME:20251101T160000
DTEND;TZID=Europe/Rome;VALUE=DATE-TIME:20251101T173000
DTSTAMP;VALUE=DATE-TIME:20260421T172158Z
UID:7bc35a74ac27423e8acbf58e4ae0c9c8@www.baccanaleimola.it
CATEGORIES:Baccanale 2025,spezie,per bambini
CREATED;VALUE=DATE-TIME:20250915T112832Z
DESCRIPTION:Merenda con mistero per bambini con premio finale. Di chi sar
 à il sussurro profumato di spezie che si sente nell’aria?\nGioco e mere
 nda con biscotti zucca\, cannella e noce moscata
LAST-MODIFIED;VALUE=DATE-TIME:20250917T085154Z
URL:https://www.baccanaleimola.it/api/programma/la-bottega-di-zafira
END:VEVENT
BEGIN:VTIMEZONE
TZID:Europe/Rome
X-LIC-LOCATION:Europe/Rome
BEGIN:STANDARD
DTSTART;VALUE=DATE-TIME:20251026T020000
TZNAME:CET
TZOFFSETFROM:+0200
TZOFFSETTO:+0100
END:STANDARD
END:VTIMEZONE
END:VCALENDAR
