BEGIN:VCALENDAR
VERSION:2.0
PRODID:-//Plone.org//NONSGML plone.app.event//EN
X-WR-TIMEZONE:Europe/Rome
BEGIN:VEVENT
SUMMARY:L’ULTIMA NOTTE DI SHERAZADE – CENA CON DELITTO
DTSTART;TZID=Europe/Rome;VALUE=DATE-TIME:20251031T200000
DTEND;TZID=Europe/Rome;VALUE=DATE-TIME:20251031T220000
DTSTAMP;VALUE=DATE-TIME:20260421T173854Z
UID:200c24c88a5a447fa5950b4e2d82a92f@www.baccanaleimola.it
CATEGORIES:Baccanale 2025,spezie
CREATED;VALUE=DATE-TIME:20250915T112403Z
DESCRIPTION:È la millesima notte in cui Sherazade racconta le sue storie
 …ma ad un tratto accade qualcosa. Quale sarà la spezia avvelenata?\nGio
 co e cena con premio finale per il tavolo vincitore.\n
LAST-MODIFIED;VALUE=DATE-TIME:20250917T085227Z
URL:https://www.baccanaleimola.it/api/programma/l2019ultima-notte-di-shera
 zade-2013-cena-con-delitto
END:VEVENT
BEGIN:VTIMEZONE
TZID:Europe/Rome
X-LIC-LOCATION:Europe/Rome
BEGIN:STANDARD
DTSTART;VALUE=DATE-TIME:20251026T020000
TZNAME:CET
TZOFFSETFROM:+0200
TZOFFSETTO:+0100
END:STANDARD
END:VTIMEZONE
END:VCALENDAR
