BEGIN:VCALENDAR
VERSION:2.0
PRODID:-//Plone.org//NONSGML plone.app.event//EN
X-WR-TIMEZONE:Europe/Rome
BEGIN:VEVENT
SUMMARY:L’OSTERIA I TRI SCALEN IN COLLABORAZIONE CON LA CANTINA TRE MONT
 I
DTSTART;TZID=Europe/Rome;VALUE=DATE-TIME:20251028T200000
DTEND;TZID=Europe/Rome;VALUE=DATE-TIME:20251028T220000
DTSTAMP;VALUE=DATE-TIME:20260421T174204Z
UID:cbaa8d3db99543669925c8205fbb42fe@www.baccanaleimola.it
CATEGORIES:Baccanale 2025,degustazione,spezie
CREATED;VALUE=DATE-TIME:20250915T102817Z
DESCRIPTION:Presentazione dei vini: Albana Ever 2024\, Thea Bianco 2024 in
  anteprima\, Sangiovese Petrignone 2022\, Sangiovese Classe 33 Serra 2022\
 , Thea passito 2023 in collaborazione con la cantina Tre Monti. In abbinam
 ento saranno serviti tre piatti: potage parmantier\, goulasch di manzo con
  canederli allo speck e formaggio\, selezione di formaggi francesi in coll
 aborazione con l’azienda Mons. 
LAST-MODIFIED;VALUE=DATE-TIME:20250917T085158Z
URL:https://www.baccanaleimola.it/api/programma/l2019osteria-i-tri-scalen-
 in-collaborazione-con-la-cantina-tre-monti
END:VEVENT
BEGIN:VTIMEZONE
TZID:Europe/Rome
X-LIC-LOCATION:Europe/Rome
BEGIN:STANDARD
DTSTART;VALUE=DATE-TIME:20251026T020000
TZNAME:CET
TZOFFSETFROM:+0200
TZOFFSETTO:+0100
END:STANDARD
END:VTIMEZONE
END:VCALENDAR
