BEGIN:VCALENDAR
VERSION:2.0
PRODID:-//Plone.org//NONSGML plone.app.event//EN
X-WR-TIMEZONE:Europe/Rome
BEGIN:VEVENT
SUMMARY:L’ALCHIMIA DEL GUSTO | LUCIANO SORBILLO E MOLINO NALDONI
DTSTART;TZID=Europe/Rome;VALUE=DATE-TIME:20251103T173000
DTEND;TZID=Europe/Rome;VALUE=DATE-TIME:20251103T183000
DTSTAMP;VALUE=DATE-TIME:20260421T155508Z
UID:3d2b12bbdb1c4682a49a34305608fc13@www.baccanaleimola.it
CATEGORIES:Baccanale 2025,spezie
CREATED;VALUE=DATE-TIME:20250916T062915Z
DESCRIPTION::LA PIZZA TRA ERBE AROMATICHE E TRADIZIONE NAPOLETANA 
LAST-MODIFIED;VALUE=DATE-TIME:20251017T080540Z
URL:https://www.baccanaleimola.it/api/programma/l2019alchimia-del-gusto-lu
 ciano-sorbillo-e-molino-naldoni
END:VEVENT
BEGIN:VTIMEZONE
TZID:Europe/Rome
X-LIC-LOCATION:Europe/Rome
BEGIN:STANDARD
DTSTART;VALUE=DATE-TIME:20251026T020000
TZNAME:CET
TZOFFSETFROM:+0200
TZOFFSETTO:+0100
END:STANDARD
END:VTIMEZONE
END:VCALENDAR
