BEGIN:VCALENDAR
VERSION:2.0
PRODID:-//Plone.org//NONSGML plone.app.event//EN
X-WR-TIMEZONE:Europe/Rome
BEGIN:VEVENT
SUMMARY:L’ABBRACCIO CALDO DELLE SPEZIE CHE SCALDANO CORPO\, MENTE E PALA
 TO
DTSTART;TZID=Europe/Rome;VALUE=DATE-TIME:20251106T170000
DTEND;TZID=Europe/Rome;VALUE=DATE-TIME:20251106T180000
DTSTAMP;VALUE=DATE-TIME:20260421T155707Z
UID:6d86e55228c348e583c5767c401ebec7@www.baccanaleimola.it
CATEGORIES:Baccanale 2025,spezie
CREATED;VALUE=DATE-TIME:20250916T071655Z
DESCRIPTION:Affascinante viaggio nella chimica che è alla base degli effe
 tti sul nostro corpo delle spezie\nA cura delle studentesse Baker Marlene\
 , Burlando Maria e Telch Sara (referenti Prof.sse Guernelli/Angelini) (Alm
 a Mater Studiorum\, Università di Bologna - sede di Imola)\nInfo e prenot
 azioni: unibo.sedeimola@unibo.it – 051 8027101
LAST-MODIFIED;VALUE=DATE-TIME:20250917T085200Z
URL:https://www.baccanaleimola.it/api/programma/l2019abbraccio-caldo-delle
 -spezie-che-scaldano-corpo-mente-e-palato
END:VEVENT
BEGIN:VTIMEZONE
TZID:Europe/Rome
X-LIC-LOCATION:Europe/Rome
BEGIN:STANDARD
DTSTART;VALUE=DATE-TIME:20251026T020000
TZNAME:CET
TZOFFSETFROM:+0200
TZOFFSETTO:+0100
END:STANDARD
END:VTIMEZONE
END:VCALENDAR
