BEGIN:VCALENDAR
VERSION:2.0
PRODID:-//Plone.org//NONSGML plone.app.event//EN
X-WR-TIMEZONE:Europe/Rome
BEGIN:VEVENT
SUMMARY:KEITA MIYAZAKI. THE GARDEN OF VANITIES
DTSTART;VALUE=DATE:20251115
DTEND;VALUE=DATE:20260223
DTSTAMP;VALUE=DATE-TIME:20260421T155532Z
UID:0a673021e020460799fde3bc6826b7c2@www.baccanaleimola.it
CATEGORIES:Baccanale 2025,spezie,mostre
CREATED;VALUE=DATE-TIME:20250916T135809Z
DESCRIPTION:Orari: venerdì ore 15-19\; sabato e domenica ore 10-13 e 15-1
 9
LAST-MODIFIED;VALUE=DATE-TIME:20250917T085331Z
URL:https://www.baccanaleimola.it/api/programma/keita-miyazaki-the-garden-
 of-vanities
END:VEVENT
END:VCALENDAR
