BEGIN:VCALENDAR
VERSION:2.0
PRODID:-//Plone.org//NONSGML plone.app.event//EN
X-WR-TIMEZONE:Europe/Rome
BEGIN:VEVENT
SUMMARY:INSAPORIRE CON LE ERBE
DTSTART;TZID=Europe/Rome;VALUE=DATE-TIME:20251115T190000
DTEND;TZID=Europe/Rome;VALUE=DATE-TIME:20251115T200000
DTSTAMP;VALUE=DATE-TIME:20260421T172109Z
UID:817997743f124d0a8091c4a60040c92a@www.baccanaleimola.it
CATEGORIES:Baccanale 2025,spezie,laboratorio
CREATED;VALUE=DATE-TIME:20250916T130933Z
DESCRIPTION:Showcooking a cura di Monica Campagnoli\, food writer e cuoca.
  Autrice del blog Tortellini&Co e della newsletter Fritto Misto. Verranno 
 preparate polpette e frittelle con le erbe. \nIngresso libero\n
LAST-MODIFIED;VALUE=DATE-TIME:20251017T082530Z
URL:https://www.baccanaleimola.it/api/programma/insaporire-con-le-erbe
END:VEVENT
BEGIN:VTIMEZONE
TZID:Europe/Rome
X-LIC-LOCATION:Europe/Rome
BEGIN:STANDARD
DTSTART;VALUE=DATE-TIME:20251026T020000
TZNAME:CET
TZOFFSETFROM:+0200
TZOFFSETTO:+0100
END:STANDARD
END:VTIMEZONE
END:VCALENDAR
