BEGIN:VCALENDAR
VERSION:2.0
PRODID:-//Plone.org//NONSGML plone.app.event//EN
X-WR-TIMEZONE:Europe/Rome
BEGIN:VEVENT
SUMMARY:INAUGURAZIONE MOSTRA “SPEZIE DAL MONDO” E VISITA GUIDATA
DTSTART;TZID=Europe/Rome;VALUE=DATE-TIME:20251026T100000
DTEND;TZID=Europe/Rome;VALUE=DATE-TIME:20251026T120000
DTSTAMP;VALUE=DATE-TIME:20260421T155804Z
UID:409636774471401abfea5e729293e809@www.baccanaleimola.it
CATEGORIES:Baccanale 2025,spezie
CREATED;VALUE=DATE-TIME:20250915T085827Z
DESCRIPTION:Inaugurazione e visita guidata della mostra alla presenza di C
 arla Coco\, direttore artistico della manifestazione “Spezie dal mondo
 ”.
LAST-MODIFIED;VALUE=DATE-TIME:20251017T074338Z
URL:https://www.baccanaleimola.it/api/programma/inaugurazione-mostra-201cs
 pezie-dal-mondo201d-e-visita-guidata
END:VEVENT
BEGIN:VTIMEZONE
TZID:Europe/Rome
X-LIC-LOCATION:Europe/Rome
BEGIN:STANDARD
DTSTART;VALUE=DATE-TIME:20251026T020000
TZNAME:CET
TZOFFSETFROM:+0200
TZOFFSETTO:+0100
END:STANDARD
END:VTIMEZONE
END:VCALENDAR
