BEGIN:VCALENDAR
VERSION:2.0
PRODID:-//Plone.org//NONSGML plone.app.event//EN
X-WR-TIMEZONE:Europe/Rome
BEGIN:VEVENT
SUMMARY:Inaugurazione Baccanale 2025 - Un mondo di spezie
DTSTART;TZID=Europe/Rome;VALUE=DATE-TIME:20251025T170000
DTEND;TZID=Europe/Rome;VALUE=DATE-TIME:20251025T173000
DTSTAMP;VALUE=DATE-TIME:20260421T174054Z
UID:1d57f3863a444eafb37ea687a0f66971@www.baccanaleimola.it
CATEGORIES:Baccanale 2025,spezie,inaugurazione
CREATED;VALUE=DATE-TIME:20250915T081638Z
DESCRIPTION:Alla presenza del Sindaco di Imola\, Marco Panieri\, dell’As
 sessore alla Cultura\, Politiche giovanili\, Legalità e Pace Giacomo Gamb
 i\, e dell’Assessore ai Lavori pubblici\, Centro storico\, Attività Pro
 duttive e Bilancio Pierangelo Raffini. Sarà presente Alessio Mammi\, Asse
 ssore regionale all’Agricoltura e agroalimentare\, Caccia e Pesca\, Rapp
 orti con la UE.\nA seguire\, lectio magistralis del Professor Massimo Mont
 anari\, dal titolo "La straordinaria avventura delle spezie"
LAST-MODIFIED;VALUE=DATE-TIME:20250917T085303Z
URL:https://www.baccanaleimola.it/api/programma/inaugurazione-baccanale-20
 25-un-mondo-di-spezie
END:VEVENT
BEGIN:VTIMEZONE
TZID:Europe/Rome
X-LIC-LOCATION:Europe/Rome
BEGIN:DAYLIGHT
DTSTART;VALUE=DATE-TIME:20250330T030000
TZNAME:CEST
TZOFFSETFROM:+0100
TZOFFSETTO:+0200
END:DAYLIGHT
END:VTIMEZONE
END:VCALENDAR
