BEGIN:VCALENDAR
VERSION:2.0
PRODID:-//Plone.org//NONSGML plone.app.event//EN
X-WR-TIMEZONE:Europe/Rome
BEGIN:VEVENT
SUMMARY:INAUGURAZIONE “IL PESO DELLO SPRECO” – TEDxIMOLA
DTSTART;TZID=Europe/Rome;VALUE=DATE-TIME:20251027T203000
DTEND;TZID=Europe/Rome;VALUE=DATE-TIME:20251027T223000
DTSTAMP;VALUE=DATE-TIME:20260421T174039Z
UID:2abb392d2db042bb8e665a79ae728212@www.baccanaleimola.it
CATEGORIES:Baccanale 2025,incontro,spezie,mostre
CREATED;VALUE=DATE-TIME:20250915T100349Z
DESCRIPTION:panel di riflessione sulla lotta allo spreco alimentare
LAST-MODIFIED;VALUE=DATE-TIME:20251020T111537Z
URL:https://www.baccanaleimola.it/api/programma/inaugurazione-201cil-peso-
 dello-spreco201d-2013-tedximola
END:VEVENT
BEGIN:VTIMEZONE
TZID:Europe/Rome
X-LIC-LOCATION:Europe/Rome
BEGIN:STANDARD
DTSTART;VALUE=DATE-TIME:20251026T020000
TZNAME:CET
TZOFFSETFROM:+0200
TZOFFSETTO:+0100
END:STANDARD
END:VTIMEZONE
END:VCALENDAR
