BEGIN:VCALENDAR
VERSION:2.0
PRODID:-//Plone.org//NONSGML plone.app.event//EN
X-WR-TIMEZONE:Europe/Rome
BEGIN:VEVENT
SUMMARY:IN VIAGGIO CON LE SPEZIE: DA SIMBOLO DI PRESTIGIO A PRODOTTO POPOL
 ARE. MA LE SPEZIE FANNO BENE?
DTSTART;TZID=Europe/Rome;VALUE=DATE-TIME:20251114T181500
DTEND;TZID=Europe/Rome;VALUE=DATE-TIME:20251114T193000
DTSTAMP;VALUE=DATE-TIME:20260421T155829Z
UID:89f8cd08480345b093a4a1162ceecbee@www.baccanaleimola.it
CATEGORIES:Baccanale 2025,spezie
CREATED;VALUE=DATE-TIME:20250916T111243Z
DESCRIPTION:Partecipano Massimo Montanari\, Luca La Fauci\, Valentino Marc
 attilii\nA cura dell’Accademia Italiana della Cucina\n
LAST-MODIFIED;VALUE=DATE-TIME:20250917T085324Z
URL:https://www.baccanaleimola.it/api/programma/in-viaggio-con-le-spezie-d
 a-simbolo-di-prestigio-a-prodotto-popolare-ma-le-spezie-fanno-bene
END:VEVENT
BEGIN:VTIMEZONE
TZID:Europe/Rome
X-LIC-LOCATION:Europe/Rome
BEGIN:STANDARD
DTSTART;VALUE=DATE-TIME:20251026T020000
TZNAME:CET
TZOFFSETFROM:+0200
TZOFFSETTO:+0100
END:STANDARD
END:VTIMEZONE
END:VCALENDAR
