BEGIN:VCALENDAR
VERSION:2.0
PRODID:-//Plone.org//NONSGML plone.app.event//EN
X-WR-TIMEZONE:Europe/Rome
BEGIN:VEVENT
SUMMARY:IL VALORE NUTRACEUTICO DELLA CURCUMA PER IL BENESSERE INTESTINALE
DTSTART;TZID=Europe/Rome;VALUE=DATE-TIME:20251105T170000
DTEND;TZID=Europe/Rome;VALUE=DATE-TIME:20251105T180000
DTSTAMP;VALUE=DATE-TIME:20260421T172716Z
UID:09c881e9bfa142a3938e261d0885fa6c@www.baccanaleimola.it
CATEGORIES:Baccanale 2025,spezie
CREATED;VALUE=DATE-TIME:20250916T071136Z
DESCRIPTION:La curcuma è una spezia dalle antiche tradizioni\, oggetto di
  numerosi studi scientifici per le sue potenziali proprietà nutraceutiche
 . L’incontro metterà in luce il suo ruolo nel sostenere il benessere in
 testinale\, grazie all’azione di composti bioattivi come la curcumina\, 
 con effetti antinfiammatori e modulanti i disordini della motilità.
LAST-MODIFIED;VALUE=DATE-TIME:20250917T085200Z
URL:https://www.baccanaleimola.it/api/programma/il-valore-nutraceutico-del
 la-curcuma-per-il-benessere-intestinale
END:VEVENT
BEGIN:VTIMEZONE
TZID:Europe/Rome
X-LIC-LOCATION:Europe/Rome
BEGIN:STANDARD
DTSTART;VALUE=DATE-TIME:20251026T020000
TZNAME:CET
TZOFFSETFROM:+0200
TZOFFSETTO:+0100
END:STANDARD
END:VTIMEZONE
END:VCALENDAR
