BEGIN:VCALENDAR
VERSION:2.0
PRODID:-//Plone.org//NONSGML plone.app.event//EN
X-WR-TIMEZONE:Europe/Rome
BEGIN:VEVENT
SUMMARY:IL PESO DELLO SPRECO
DTSTART;VALUE=DATE:20251031
DTEND;VALUE=DATE:20251101
DTSTAMP;VALUE=DATE-TIME:20260421T155036Z
UID:13a49a2255c44f098c4ff6b2a39bc4d6@www.baccanaleimola.it
RRULE:FREQ=DAILY;UNTIL=20251031T000000Z;INTERVAL=1
RDATE;TZID=Europe/Rome:20251101T000000,20251102T000000,20251107T000000,202
 51108T000000,20251109T000000
CATEGORIES:Baccanale 2025,spezie,mostre
CREATED;VALUE=DATE-TIME:20250916T140409Z
DESCRIPTION:L’associazione MetaVenti\, fondata da un gruppo di giovani v
 entenni del territorio\, si adopera per promuovere\, attraverso l’evento
  TEDxImola e altre iniziative\, il legame tra le nuove generazioni\, la ci
 ttà di Imola e tutto quello che essa può offrire
LAST-MODIFIED;VALUE=DATE-TIME:20251020T111516Z
URL:https://www.baccanaleimola.it/api/programma/il-peso-dello-spreco
END:VEVENT
END:VCALENDAR
