BEGIN:VCALENDAR
VERSION:2.0
PRODID:-//Plone.org//NONSGML plone.app.event//EN
X-WR-TIMEZONE:Europe/Rome
BEGIN:VEVENT
SUMMARY:IL MONDO\, SPEZIA DELL’UNIVERSO
DTSTART;TZID=Europe/Rome;VALUE=DATE-TIME:20251026T180000
DTEND;TZID=Europe/Rome;VALUE=DATE-TIME:20251026T200000
DTSTAMP;VALUE=DATE-TIME:20260421T155240Z
UID:876e7181e7fc48529f99c0e4e175623a@www.baccanaleimola.it
RRULE:FREQ=DAILY;UNTIL=20251026T000000Z;INTERVAL=1
RDATE;TZID=Europe/Rome:20251108T000000
CATEGORIES:Baccanale 2025,conferenza,spezie
CREATED;VALUE=DATE-TIME:20250915T094617Z
DESCRIPTION:Piccola conferenza che ripercorre la storia della scoperta deg
 li elementi chimici sulla Terra e nel resto dell'universo.
LAST-MODIFIED;VALUE=DATE-TIME:20250917T085208Z
URL:https://www.baccanaleimola.it/api/programma/il-mondo-spezia-dell2019un
 iverso
END:VEVENT
BEGIN:VTIMEZONE
TZID:Europe/Rome
X-LIC-LOCATION:Europe/Rome
BEGIN:STANDARD
DTSTART;VALUE=DATE-TIME:20251026T020000
TZNAME:CET
TZOFFSETFROM:+0200
TZOFFSETTO:+0100
END:STANDARD
END:VTIMEZONE
END:VCALENDAR
