BEGIN:VCALENDAR
VERSION:2.0
PRODID:-//Plone.org//NONSGML plone.app.event//EN
X-WR-TIMEZONE:Europe/Rome
BEGIN:VEVENT
SUMMARY:IL MONDO A IMOLA. ENTRIAMO IN UNA SPEZIERIA DI 400 ANNI FA
DTSTART;VALUE=DATE:20251026
DTEND;VALUE=DATE:20251117
DTSTAMP;VALUE=DATE-TIME:20260421T174107Z
UID:4a8c08669b6b4692aed718910b4462ef@www.baccanaleimola.it
CATEGORIES:Baccanale 2025,spezie,mostre
CREATED;VALUE=DATE-TIME:20250916T134959Z
DESCRIPTION:Mostra aperta il lunedì e venerdì mattina sulla storia di un
 a famiglia di speziali vissuta ad Imola nel ‘600\nA cura della Sezione d
 i Imola dell’archivio di Stato di Bologna in collaborazione con Universi
 tà Aperta\n
LAST-MODIFIED;VALUE=DATE-TIME:20250918T121029Z
URL:https://www.baccanaleimola.it/api/programma/il-mondo-ad-imola-entriamo
 -in-una-spezieria-di-400-anni-fa
END:VEVENT
END:VCALENDAR
