BEGIN:VCALENDAR
VERSION:2.0
PRODID:-//Plone.org//NONSGML plone.app.event//EN
X-WR-TIMEZONE:Europe/Rome
BEGIN:VEVENT
SUMMARY:IL MONDO A IMOLA. ENTRIAMO IN UNA SPEZIERIA DI 400 ANNI FA
DTSTART;TZID=Europe/Rome;VALUE=DATE-TIME:20251107T103000
DTEND;TZID=Europe/Rome;VALUE=DATE-TIME:20251107T113000
DTSTAMP;VALUE=DATE-TIME:20260421T174107Z
UID:f0456e8aa44746cdb48def86c3020902@www.baccanaleimola.it
CATEGORIES:Baccanale 2025,mostre,spezie,visita guidata
CREATED;VALUE=DATE-TIME:20250915T091815Z
DESCRIPTION:Conferenza sulla storia di una famiglia di speziali vissuta ad
  Imola nel ‘600\nA cura della Sezione di Imola dell’Archivio di Stato 
 di Bologna in collaborazione con Università Aperta\n
LAST-MODIFIED;VALUE=DATE-TIME:20251103T113600Z
URL:https://www.baccanaleimola.it/api/programma/il-mondo-a-imola-entriamo-
 in-una-spezieria-di-400-anni-fa
END:VEVENT
BEGIN:VTIMEZONE
TZID:Europe/Rome
X-LIC-LOCATION:Europe/Rome
BEGIN:STANDARD
DTSTART;VALUE=DATE-TIME:20251026T020000
TZNAME:CET
TZOFFSETFROM:+0200
TZOFFSETTO:+0100
END:STANDARD
END:VTIMEZONE
END:VCALENDAR
