BEGIN:VCALENDAR
VERSION:2.0
PRODID:-//Plone.org//NONSGML plone.app.event//EN
X-WR-TIMEZONE:Europe/Rome
BEGIN:VEVENT
SUMMARY:IL MERCATO DELLE ERBE
DTSTART;TZID=Europe/Rome;VALUE=DATE-TIME:20251116T090000
DTEND;TZID=Europe/Rome;VALUE=DATE-TIME:20251116T190000
DTSTAMP;VALUE=DATE-TIME:20260421T190637Z
UID:7a6b3fe75f1049dc8c372228f414975b@www.baccanaleimola.it
CATEGORIES:Baccanale 2025,spezie,mercato
CREATED;VALUE=DATE-TIME:20250915T085211Z
DESCRIPTION:Mercato che vedrà protagonisti aromi e profumi 
LAST-MODIFIED;VALUE=DATE-TIME:20250917T085302Z
URL:https://www.baccanaleimola.it/api/programma/il-mercato-delle-erbe-1/20
 25-11-16
END:VEVENT
BEGIN:VTIMEZONE
TZID:Europe/Rome
X-LIC-LOCATION:Europe/Rome
BEGIN:STANDARD
DTSTART;VALUE=DATE-TIME:20251026T020000
TZNAME:CET
TZOFFSETFROM:+0200
TZOFFSETTO:+0100
END:STANDARD
END:VTIMEZONE
END:VCALENDAR
