BEGIN:VCALENDAR
VERSION:2.0
PRODID:-//Plone.org//NONSGML plone.app.event//EN
X-WR-TIMEZONE:Europe/Rome
BEGIN:VEVENT
SUMMARY:IL GIRO D’ITALIA IN UN DRINK – SPEZIE\, SAPORI E STORIE
DTSTART;TZID=Europe/Rome;VALUE=DATE-TIME:20251114T183000
DTEND;TZID=Europe/Rome;VALUE=DATE-TIME:20251115T003000
DTSTAMP;VALUE=DATE-TIME:20260421T155605Z
UID:007738c2fc9b42d888d078d903168dfb@www.baccanaleimola.it
CATEGORIES:Baccanale 2025,spezie,degustazione
CREATED;VALUE=DATE-TIME:20250916T112535Z
DESCRIPTION:Un evento unico nel suo genere che trasforma Imola nella capit
 ale italiana della mixology. Bartender provenienti da ogni angolo del Paes
 e si danno appuntamento per presentare la loro personale interpretazione d
 i un cocktail ispirato al mondo delle spezie.
LAST-MODIFIED;VALUE=DATE-TIME:20251017T082453Z
URL:https://www.baccanaleimola.it/api/programma/il-giro-d2019italia-in-un-
 drink-2013-spezie-sapori-e-storie
END:VEVENT
BEGIN:VTIMEZONE
TZID:Europe/Rome
X-LIC-LOCATION:Europe/Rome
BEGIN:STANDARD
DTSTART;VALUE=DATE-TIME:20251026T020000
TZNAME:CET
TZOFFSETFROM:+0200
TZOFFSETTO:+0100
END:STANDARD
END:VTIMEZONE
END:VCALENDAR
