BEGIN:VCALENDAR
VERSION:2.0
PRODID:-//Plone.org//NONSGML plone.app.event//EN
X-WR-TIMEZONE:Europe/Rome
BEGIN:VEVENT
SUMMARY:IL GENIO DEL PEPE NERO
DTSTART;TZID=Europe/Rome;VALUE=DATE-TIME:20251025T160000
DTEND;TZID=Europe/Rome;VALUE=DATE-TIME:20251025T170000
DTSTAMP;VALUE=DATE-TIME:20260421T155028Z
UID:ecb220b0e4fc4c12a6e687d7fd4abda9@www.baccanaleimola.it
CATEGORIES:Baccanale 2025,spezie,per bambini
CREATED;VALUE=DATE-TIME:20250915T084112Z
DESCRIPTION:Spettacolo di burattini e merenda con biscotti allo zenzero pe
 r bambini da 4 anni in su.
LAST-MODIFIED;VALUE=DATE-TIME:20250917T085302Z
URL:https://www.baccanaleimola.it/api/programma/il-genio-del-pepe-nero
END:VEVENT
BEGIN:VTIMEZONE
TZID:Europe/Rome
X-LIC-LOCATION:Europe/Rome
BEGIN:DAYLIGHT
DTSTART;VALUE=DATE-TIME:20250330T030000
TZNAME:CEST
TZOFFSETFROM:+0100
TZOFFSETTO:+0200
END:DAYLIGHT
END:VTIMEZONE
END:VCALENDAR
