BEGIN:VCALENDAR
VERSION:2.0
PRODID:-//Plone.org//NONSGML plone.app.event//EN
X-WR-TIMEZONE:Europe/Rome
BEGIN:VEVENT
SUMMARY:IL CASO DELLE SPEZIE SCOMPARSE
DTSTART;TZID=Europe/Rome;VALUE=DATE-TIME:20251109T150000
DTEND;TZID=Europe/Rome;VALUE=DATE-TIME:20251109T170000
DTSTAMP;VALUE=DATE-TIME:20260421T154139Z
UID:4a21bf4797d64fdf8e79853a3f952324@www.baccanaleimola.it
CATEGORIES:Baccanale 2025,per bambini,spezie
CREATED;VALUE=DATE-TIME:20250916T094416Z
DESCRIPTION:Qualcosa di strano sta succedendo al convento della Beata Verg
 ine Maria del Piratello… tutte le spezie sono scomparse! I frati non rie
 scono più a trovarle\, e senza il loro potere il grande disegno profumato
  non potrà essere completato
LAST-MODIFIED;VALUE=DATE-TIME:20250917T085326Z
URL:https://www.baccanaleimola.it/api/programma/il-caso-delle-spezie-scomp
 arse
END:VEVENT
BEGIN:VTIMEZONE
TZID:Europe/Rome
X-LIC-LOCATION:Europe/Rome
BEGIN:STANDARD
DTSTART;VALUE=DATE-TIME:20251026T020000
TZNAME:CET
TZOFFSETFROM:+0200
TZOFFSETTO:+0100
END:STANDARD
END:VTIMEZONE
END:VCALENDAR
