BEGIN:VCALENDAR
VERSION:2.0
PRODID:-//Plone.org//NONSGML plone.app.event//EN
X-WR-TIMEZONE:Europe/Rome
BEGIN:VEVENT
SUMMARY:I TRI SCALEN PRESENTANO I WHISKY SELEZIONATI DA GORDON & MACPHAIL
DTSTART;TZID=Europe/Rome;VALUE=DATE-TIME:20251104T200000
DTEND;TZID=Europe/Rome;VALUE=DATE-TIME:20251104T220000
DTSTAMP;VALUE=DATE-TIME:20260421T155620Z
UID:a342242c0a21405f8c423d5154496e11@www.baccanaleimola.it
CATEGORIES:Baccanale 2025,spezie,cena
CREATED;VALUE=DATE-TIME:20250916T064258Z
DESCRIPTION:La serata sarà dedicata ai whisky\, con la degustazione di 8 
 whisky abbinati a prodotti alimentari. La presentazione sarà tenuta dalla
  distribuzione Meregalli & Spits\n\n
LAST-MODIFIED;VALUE=DATE-TIME:20250917T085153Z
URL:https://www.baccanaleimola.it/api/programma/i-tri-scalen-presentano-i-
 whisky-selezionati-da-gordon-macphail
END:VEVENT
BEGIN:VTIMEZONE
TZID:Europe/Rome
X-LIC-LOCATION:Europe/Rome
BEGIN:STANDARD
DTSTART;VALUE=DATE-TIME:20251026T020000
TZNAME:CET
TZOFFSETFROM:+0200
TZOFFSETTO:+0100
END:STANDARD
END:VTIMEZONE
END:VCALENDAR
