BEGIN:VCALENDAR
VERSION:2.0
PRODID:-//Plone.org//NONSGML plone.app.event//EN
X-WR-TIMEZONE:Europe/Rome
BEGIN:VEVENT
SUMMARY:I TRI SCALEN PRESENTANO I RUM IDEATI E SELEZIONATI DA LUCA GARGANO
DTSTART;TZID=Europe/Rome;VALUE=DATE-TIME:20251111T200000
DTEND;TZID=Europe/Rome;VALUE=DATE-TIME:20251111T220000
DTSTAMP;VALUE=DATE-TIME:20260421T172813Z
UID:636e0f35c492450d96edc53bc07fb434@www.baccanaleimola.it
CATEGORIES:Baccanale 2025,degustazione,spezie
CREATED;VALUE=DATE-TIME:20250916T102532Z
DESCRIPTION:La serata si svolgerà degustando 8 rum abbinati al cioccolato
  fondente Valrhona di diverse origini\, provenienze e percentuali di cacao
 .
LAST-MODIFIED;VALUE=DATE-TIME:20250917T085329Z
URL:https://www.baccanaleimola.it/api/programma/i-tri-scalen-presentano-i-
 rum-ideati-e-selezionati-da-luca-gargano
END:VEVENT
BEGIN:VTIMEZONE
TZID:Europe/Rome
X-LIC-LOCATION:Europe/Rome
BEGIN:STANDARD
DTSTART;VALUE=DATE-TIME:20251026T020000
TZNAME:CET
TZOFFSETFROM:+0200
TZOFFSETTO:+0100
END:STANDARD
END:VTIMEZONE
END:VCALENDAR
