BEGIN:VCALENDAR
VERSION:2.0
PRODID:-//Plone.org//NONSGML plone.app.event//EN
X-WR-TIMEZONE:Europe/Rome
BEGIN:VEVENT
SUMMARY:I LIBRI-GIORNALI DELLA SPEZIERIA DI DIOTAIUTI
DTSTART;VALUE=DATE:20251025
DTEND;VALUE=DATE:20251117
DTSTAMP;VALUE=DATE-TIME:20260421T172701Z
UID:e889681c56df4895bb6553cb3dba77da@www.baccanaleimola.it
CATEGORIES:Baccanale 2025,spezie,mostre
CREATED;VALUE=DATE-TIME:20250916T135329Z
DESCRIPTION:Preziosa testimonianza di una delle botteghe medievali più im
 portanti di Imola\, i giornali contabili della spezieria di Diotaiuti di C
 ecco documentano le attività dell’emporio tra il 1356 e il 1367
LAST-MODIFIED;VALUE=DATE-TIME:20250917T085325Z
URL:https://www.baccanaleimola.it/api/programma/i-libri-giornali-della-spe
 zieria-di-diotaiuti
END:VEVENT
END:VCALENDAR
