BEGIN:VCALENDAR
VERSION:2.0
PRODID:-//Plone.org//NONSGML plone.app.event//EN
X-WR-TIMEZONE:Europe/Rome
BEGIN:VEVENT
SUMMARY:Gli Spaghetti alla Bolognese Band
DTSTART;TZID=Europe/Rome;VALUE=DATE-TIME:20251026T160000
DTEND;TZID=Europe/Rome;VALUE=DATE-TIME:20251026T180000
DTSTAMP;VALUE=DATE-TIME:20260421T155205Z
UID:620350f71d6f4d37b1ef6af5bd3448e2@www.baccanaleimola.it
CATEGORIES:Baccanale 2025,spezie
CREATED;VALUE=DATE-TIME:20240917T101034Z
DESCRIPTION:Concerto della street band Gli Spaghetti alla Bolognese
LAST-MODIFIED;VALUE=DATE-TIME:20251024T103153Z
URL:https://www.baccanaleimola.it/api/programma/gli-spaghetti-alla-bologne
 se-band
END:VEVENT
BEGIN:VTIMEZONE
TZID:Europe/Rome
X-LIC-LOCATION:Europe/Rome
BEGIN:STANDARD
DTSTART;VALUE=DATE-TIME:20251026T020000
TZNAME:CET
TZOFFSETFROM:+0200
TZOFFSETTO:+0100
END:STANDARD
END:VTIMEZONE
END:VCALENDAR
