BEGIN:VCALENDAR
VERSION:2.0
PRODID:-//Plone.org//NONSGML plone.app.event//EN
X-WR-TIMEZONE:Europe/Rome
BEGIN:VEVENT
SUMMARY:Garganello d'Oro 2025
DTSTART;TZID=Europe/Rome;VALUE=DATE-TIME:20251102T180000
DTEND;TZID=Europe/Rome;VALUE=DATE-TIME:20251102T190000
DTSTAMP;VALUE=DATE-TIME:20260421T154041Z
UID:2067ac2cff78487a91ed52c971ba7655@www.baccanaleimola.it
CATEGORIES:Baccanale 2025,spezie
CREATED;VALUE=DATE-TIME:20250915T104059Z
DESCRIPTION:Il Sindaco della Città di Imola\, Marco Panieri\, consegnerà
  allo chef Max Mascia\, il “Garganello d’oro” per la promozione dell
 a cultura del cibo
LAST-MODIFIED;VALUE=DATE-TIME:20251017T080038Z
URL:https://www.baccanaleimola.it/api/programma/garganello-doro-2025
END:VEVENT
BEGIN:VTIMEZONE
TZID:Europe/Rome
X-LIC-LOCATION:Europe/Rome
BEGIN:STANDARD
DTSTART;VALUE=DATE-TIME:20251026T020000
TZNAME:CET
TZOFFSETFROM:+0200
TZOFFSETTO:+0100
END:STANDARD
END:VTIMEZONE
END:VCALENDAR
