BEGIN:VCALENDAR
VERSION:2.0
PRODID:-//Plone.org//NONSGML plone.app.event//EN
X-WR-TIMEZONE:Europe/Rome
BEGIN:VEVENT
SUMMARY:FerMenti – FESTIVAL DEL CIBO VIVO
DTSTART;TZID=Europe/Rome;VALUE=DATE-TIME:20251108T100000
DTEND;TZID=Europe/Rome;VALUE=DATE-TIME:20251108T210000
DTSTAMP;VALUE=DATE-TIME:20260421T173730Z
UID:7329a50fb5b14037b04bc5005def53e6@www.baccanaleimola.it
CATEGORIES:Baccanale 2025,spezie,cena,mercato,mostre,degustazione
CREATED;VALUE=DATE-TIME:20250916T084209Z
DESCRIPTION:Un'intera giornata alla scoperta dei “fermentati”\, cibi r
 ecuperati dalla memoria collettiva alimentare di ogni angolo del pianeta\,
  superfood\, insaporitori\, spezie del futuro. 
LAST-MODIFIED;VALUE=DATE-TIME:20251104T071553Z
URL:https://www.baccanaleimola.it/api/programma/fermenti-2013-festival-del
 -cibo-vivo
END:VEVENT
BEGIN:VTIMEZONE
TZID:Europe/Rome
X-LIC-LOCATION:Europe/Rome
BEGIN:STANDARD
DTSTART;VALUE=DATE-TIME:20251026T020000
TZNAME:CET
TZOFFSETFROM:+0200
TZOFFSETTO:+0100
END:STANDARD
END:VTIMEZONE
END:VCALENDAR
