BEGIN:VCALENDAR
VERSION:2.0
PRODID:-//Plone.org//NONSGML plone.app.event//EN
X-WR-TIMEZONE:Europe/Rome
BEGIN:VEVENT
SUMMARY:ESPOSIZIONE SENSORIALE DI SPEZIE IN FARMACIA
DTSTART;VALUE=DATE:20251108
DTEND;VALUE=DATE:20251109
DTSTAMP;VALUE=DATE-TIME:20260421T174054Z
UID:20f0e744c9484dc68375fc3746920544@www.baccanaleimola.it
CATEGORIES:Baccanale 2025,spezie,mercato,mostre
CREATED;VALUE=DATE-TIME:20250916T083202Z
DESCRIPTION:Banchetto ad offerta libera per sostenere l'associazione PerLe
 Donne di prodotti a base di spezie\nA cura DI S.F.E.R.A. S.R.L. Farmacia C
 omunale dell'Ospedale\, in collaborazione con PerLeDonne ODV\nPer info: 05
 42 23459\, ospedale@sferafarmacie.it\n
LAST-MODIFIED;VALUE=DATE-TIME:20250917T085212Z
URL:https://www.baccanaleimola.it/api/programma/esposizione-sensoriale-di-
 spezie-in-farmacia
END:VEVENT
END:VCALENDAR
