BEGIN:VCALENDAR
VERSION:2.0
PRODID:-//Plone.org//NONSGML plone.app.event//EN
X-WR-TIMEZONE:Europe/Rome
BEGIN:VEVENT
SUMMARY:Erbe in festa - Showcooking con assaggi firmati Valbuzzi
DTSTART;TZID=Europe/Rome;VALUE=DATE-TIME:20251110T180000
DTEND;TZID=Europe/Rome;VALUE=DATE-TIME:20251110T200000
DTSTAMP;VALUE=DATE-TIME:20260421T174107Z
UID:dd767037717c439f9d8a00fcf6c9fdca@www.baccanaleimola.it
CREATED;VALUE=DATE-TIME:20250918T091006Z
LAST-MODIFIED;VALUE=DATE-TIME:20251017T075135Z
URL:https://www.baccanaleimola.it/api/programma/erbe-in-festa-showcooking-
 con-assaggi-firmati-valbuzzi
END:VEVENT
BEGIN:VTIMEZONE
TZID:Europe/Rome
X-LIC-LOCATION:Europe/Rome
BEGIN:STANDARD
DTSTART;VALUE=DATE-TIME:20251026T020000
TZNAME:CET
TZOFFSETFROM:+0200
TZOFFSETTO:+0100
END:STANDARD
END:VTIMEZONE
END:VCALENDAR
