BEGIN:VCALENDAR
VERSION:2.0
PRODID:-//Plone.org//NONSGML plone.app.event//EN
X-WR-TIMEZONE:Europe/Rome
BEGIN:VEVENT
SUMMARY:ERBE E SPEZIE IN TAVOLA… SAPORI E PROFUMI DELLA NOSTRA TERRA
DTSTART;TZID=Europe/Rome;VALUE=DATE-TIME:20251115T193000
DTEND;TZID=Europe/Rome;VALUE=DATE-TIME:20251115T223000
DTSTAMP;VALUE=DATE-TIME:20260421T174007Z
UID:45092150fb7647ba8862d3ff032dea1b@www.baccanaleimola.it
CATEGORIES:Baccanale 2025,spezie,cena
CREATED;VALUE=DATE-TIME:20250916T131321Z
DESCRIPTION:Cena a tema. A pagamento. Prenotazione obbligatoria: 339 13500
 99
LAST-MODIFIED;VALUE=DATE-TIME:20250917T085331Z
URL:https://www.baccanaleimola.it/api/programma/erbe-e-spezie-in-tavola-sa
 pori-e-profumi-della-nostra-terra
END:VEVENT
BEGIN:VTIMEZONE
TZID:Europe/Rome
X-LIC-LOCATION:Europe/Rome
BEGIN:STANDARD
DTSTART;VALUE=DATE-TIME:20251026T020000
TZNAME:CET
TZOFFSETFROM:+0200
TZOFFSETTO:+0100
END:STANDARD
END:VTIMEZONE
END:VCALENDAR
