BEGIN:VCALENDAR
VERSION:2.0
PRODID:-//Plone.org//NONSGML plone.app.event//EN
X-WR-TIMEZONE:Europe/Rome
BEGIN:VEVENT
SUMMARY:DONNE SPEC/ZIALI NEL MONDO
DTSTART;VALUE=DATE:20251028
DTEND;VALUE=DATE:20251117
DTSTAMP;VALUE=DATE-TIME:20260421T155215Z
UID:9778701f72594e2da7957f17872c5ba4@www.baccanaleimola.it
CATEGORIES:Baccanale 2025,spezie,mostre
CREATED;VALUE=DATE-TIME:20250916T141354Z
DESCRIPTION:Mostra di fotografie messe a disposizione da ONG e agenzie tur
 istiche\, nelle quali sono raffigurate donne impegnate nella coltivazione 
 e trasformazione di spezie e prodotti agricoli\, come strumento di emancip
 azione ed autonomia economica.
LAST-MODIFIED;VALUE=DATE-TIME:20250917T085329Z
URL:https://www.baccanaleimola.it/api/programma/donne-spec-ziali-nel-mondo
END:VEVENT
END:VCALENDAR
