BEGIN:VCALENDAR
VERSION:2.0
PRODID:-//Plone.org//NONSGML plone.app.event//EN
X-WR-TIMEZONE:Europe/Rome
BEGIN:VEVENT
SUMMARY:DENTRO E FUORI MENU – CHIARA MACI RACCONTA I PROTAGONISTI DEL GU
 STO
DTSTART;TZID=Europe/Rome;VALUE=DATE-TIME:20251105T173000
DTEND;TZID=Europe/Rome;VALUE=DATE-TIME:20251105T183000
DTSTAMP;VALUE=DATE-TIME:20260421T155517Z
UID:2c596cdf23204bc8be9709ef0c3f8228@www.baccanaleimola.it
CATEGORIES:Baccanale 2025,spezie,incontro,presentazione
CREATED;VALUE=DATE-TIME:20250916T070425Z
DESCRIPTION:In questo incontro speciale\, Chiara Maci dialoga con i veri p
 rotagonisti della cucina: ristoratori\, pizzaioli\, pasticceri e barman ch
 e\, con passione e creatività\, hanno dato vita alle proposte gastronomic
 he di quest’anno.
LAST-MODIFIED;VALUE=DATE-TIME:20251017T080505Z
URL:https://www.baccanaleimola.it/api/programma/dentro-e-fuori-menu-2013-c
 hiara-maci-racconta-i-protagonisti-del-gusto
END:VEVENT
BEGIN:VTIMEZONE
TZID:Europe/Rome
X-LIC-LOCATION:Europe/Rome
BEGIN:STANDARD
DTSTART;VALUE=DATE-TIME:20251026T020000
TZNAME:CET
TZOFFSETFROM:+0200
TZOFFSETTO:+0100
END:STANDARD
END:VTIMEZONE
END:VCALENDAR
