BEGIN:VCALENDAR
VERSION:2.0
PRODID:-//Plone.org//NONSGML plone.app.event//EN
X-WR-TIMEZONE:Europe/Rome
BEGIN:VEVENT
SUMMARY:DEI MOMENTI SPEZIALI
DTSTART;VALUE=DATE:20251025
DTEND;VALUE=DATE:20251117
DTSTAMP;VALUE=DATE-TIME:20260421T155144Z
UID:3adf2b408bb34ef085e2c9e80282649c@www.baccanaleimola.it
CATEGORIES:Baccanale 2025,spezie,mostre
CREATED;VALUE=DATE-TIME:20250916T141036Z
DESCRIPTION:Mostra che\, attraverso due differenti forme espressive\, offr
 e suggestioni fotografiche e poetico narrative in linea con il tema del Ba
 ccanale\nVisitabile nei giorni e orari di apertura dell’esercizio commer
 ciale\nA cura di Cooperativa Sociale “Stella” e D.S.M. – D.P. Imola\
 , in collaborazione con AUSL Imola\n
LAST-MODIFIED;VALUE=DATE-TIME:20250917T085324Z
URL:https://www.baccanaleimola.it/api/programma/dei-momenti-speziali
END:VEVENT
END:VCALENDAR
