BEGIN:VCALENDAR
VERSION:2.0
PRODID:-//Plone.org//NONSGML plone.app.event//EN
X-WR-TIMEZONE:Europe/Rome
BEGIN:VEVENT
SUMMARY:DECORA CON LE SPEZIE
DTSTART;TZID=Europe/Rome;VALUE=DATE-TIME:20251108T100000
DTEND;TZID=Europe/Rome;VALUE=DATE-TIME:20251108T123000
DTSTAMP;VALUE=DATE-TIME:20260421T154945Z
UID:4952143d1d93452c938696c28bfdc59f@www.baccanaleimola.it
CATEGORIES:Baccanale 2025,per bambini,spezie
CREATED;VALUE=DATE-TIME:20250916T084812Z
DESCRIPTION:Decorazione di oggetti o manufatti cartacei utilizzando spezie
  (semi\, polvere\, ecc.)\nA cura di Insieme per un futuro migliore ODV e P
 er le donne ODV\n
LAST-MODIFIED;VALUE=DATE-TIME:20251017T081005Z
URL:https://www.baccanaleimola.it/api/programma/decora-con-le-spezie
END:VEVENT
BEGIN:VTIMEZONE
TZID:Europe/Rome
X-LIC-LOCATION:Europe/Rome
BEGIN:STANDARD
DTSTART;VALUE=DATE-TIME:20251026T020000
TZNAME:CET
TZOFFSETFROM:+0200
TZOFFSETTO:+0100
END:STANDARD
END:VTIMEZONE
END:VCALENDAR
