BEGIN:VCALENDAR
VERSION:2.0
PRODID:-//Plone.org//NONSGML plone.app.event//EN
X-WR-TIMEZONE:Europe/Rome
BEGIN:VEVENT
SUMMARY:DA BANGKOK A IMOLA
DTSTART;TZID=Europe/Rome;VALUE=DATE-TIME:20251028T163000
DTEND;TZID=Europe/Rome;VALUE=DATE-TIME:20251028T173000
DTSTAMP;VALUE=DATE-TIME:20260421T154139Z
UID:b42b24b5d17b44cca317b2fad81eaf46@www.baccanaleimola.it
CATEGORIES:Baccanale 2025,per bambini,spezie,laboratorio
CREATED;VALUE=DATE-TIME:20250915T100804Z
DESCRIPTION:prepariamo insieme riso thai con verdure\, spezie e frittata. 
 Un viaggio culinario esotico e coloratissimo per assaporare un piatto prof
 umato e speziato\, proprio come quello che si trova tra le strade di Bangk
 ok.
LAST-MODIFIED;VALUE=DATE-TIME:20251017T074711Z
URL:https://www.baccanaleimola.it/api/programma/da-bangkok-a-imola
END:VEVENT
BEGIN:VTIMEZONE
TZID:Europe/Rome
X-LIC-LOCATION:Europe/Rome
BEGIN:STANDARD
DTSTART;VALUE=DATE-TIME:20251026T020000
TZNAME:CET
TZOFFSETFROM:+0200
TZOFFSETTO:+0100
END:STANDARD
END:VTIMEZONE
END:VCALENDAR
