BEGIN:VCALENDAR
VERSION:2.0
PRODID:-//Plone.org//NONSGML plone.app.event//EN
X-WR-TIMEZONE:Europe/Rome
BEGIN:VEVENT
SUMMARY:CRÊPES E UN PIZZICO DI… DOLCEZZA
DTSTART;TZID=Europe/Rome;VALUE=DATE-TIME:20251111T163000
DTEND;TZID=Europe/Rome;VALUE=DATE-TIME:20251111T173000
DTSTAMP;VALUE=DATE-TIME:20260421T155032Z
UID:a8460afbfe5748c3b6fee7e64fb2bcca@www.baccanaleimola.it
CATEGORIES:Baccanale 2025,spezie,per bambini,laboratorio
CREATED;VALUE=DATE-TIME:20250916T100903Z
DESCRIPTION:Prepariamo insieme crêpes con diverse farciture. La semplicit
 à della pastella si trasforma in un’esperienza di gusto e creatività d
 ove ognuno potrà farcire la propria scegliendo tra crema pasticcera Eurov
 o Service\, Nutella\, frutta speziata\, panna montata\, granella croccante
  e colorati confettini. 
LAST-MODIFIED;VALUE=DATE-TIME:20251017T082045Z
URL:https://www.baccanaleimola.it/api/programma/crepes-e-un-pizzico-di-dol
 cezza
END:VEVENT
BEGIN:VTIMEZONE
TZID:Europe/Rome
X-LIC-LOCATION:Europe/Rome
BEGIN:STANDARD
DTSTART;VALUE=DATE-TIME:20251026T020000
TZNAME:CET
TZOFFSETFROM:+0200
TZOFFSETTO:+0100
END:STANDARD
END:VTIMEZONE
END:VCALENDAR
