BEGIN:VCALENDAR
VERSION:2.0
PRODID:-//Plone.org//NONSGML plone.app.event//EN
X-WR-TIMEZONE:Europe/Rome
BEGIN:VEVENT
SUMMARY:CONVERSAZIONE IN VILLA TRA GIARDINI STORICI E SALUMI SPEZIATI
DTSTART;TZID=Europe/Rome;VALUE=DATE-TIME:20251115T163000
DTEND;TZID=Europe/Rome;VALUE=DATE-TIME:20251115T180000
DTSTAMP;VALUE=DATE-TIME:20260421T172853Z
UID:e90f34f92965499ab5ab1f030f9491da@www.baccanaleimola.it
CATEGORIES:Baccanale 2025,spezie,conferenza,degustazione
CREATED;VALUE=DATE-TIME:20250916T130134Z
DESCRIPTION:Prosegue il racconto del dott. Giampaolo Nildi dell’Imola se
 greta\, rappresentata dalle ville con i loro parchi storici\, descrizione 
 che si intreccia con la storia delle famiglie che ne sono state proprietar
 ie\, che della città scriveranno la storia. Con un finale tutto dedicato 
 alla scoperta e alla degustazione dei salumi CLAI aromatizzati alle spezie
LAST-MODIFIED;VALUE=DATE-TIME:20250917T085339Z
URL:https://www.baccanaleimola.it/api/programma/conversazione-in-villa-tra
 -giardini-storici-e-salumi-speziati
END:VEVENT
BEGIN:VTIMEZONE
TZID:Europe/Rome
X-LIC-LOCATION:Europe/Rome
BEGIN:STANDARD
DTSTART;VALUE=DATE-TIME:20251026T020000
TZNAME:CET
TZOFFSETFROM:+0200
TZOFFSETTO:+0100
END:STANDARD
END:VTIMEZONE
END:VCALENDAR
