BEGIN:VCALENDAR
VERSION:2.0
PRODID:-//Plone.org//NONSGML plone.app.event//EN
X-WR-TIMEZONE:Europe/Rome
BEGIN:VEVENT
SUMMARY:CONVEGNO “LA MORTADELLA DEL TANARA” 1644
DTSTART;TZID=Europe/Rome;VALUE=DATE-TIME:20251108T153000
DTSTAMP;VALUE=DATE-TIME:20260421T173854Z
UID:7dbd3fbfafb449b0a4c3c029f382f79a@www.baccanaleimola.it
CATEGORIES:Baccanale 2025,spezie,degustazione,convegno
CREATED;VALUE=DATE-TIME:20250916T085512Z
DESCRIPTION:Dal trattato “L’economia del cittadino in villa” del nob
 ile bolognese Vincenzo Tanara\, con la minuziosa descrizione della ricetta
  di preparazione della mortadella\, degli ingredienti\, di una miriade di 
 spezie e del procedimento di produzione\, all’importante lavoro di studi
 o e di ricerca\, intrapreso dai maestri salumieri CLAI in stretta collabor
 azione con l’Università di Bologna.
LAST-MODIFIED;VALUE=DATE-TIME:20250917T085152Z
URL:https://www.baccanaleimola.it/api/programma/convegno-201cla-mortadella
 -del-tanara201d-1644
END:VEVENT
BEGIN:VTIMEZONE
TZID:Europe/Rome
X-LIC-LOCATION:Europe/Rome
BEGIN:STANDARD
DTSTART;VALUE=DATE-TIME:20251026T020000
TZNAME:CET
TZOFFSETFROM:+0200
TZOFFSETTO:+0100
END:STANDARD
END:VTIMEZONE
END:VCALENDAR
