BEGIN:VCALENDAR
VERSION:2.0
PRODID:-//Plone.org//NONSGML plone.app.event//EN
X-WR-TIMEZONE:Europe/Rome
BEGIN:VEVENT
SUMMARY:Baccanale in Boutique - Conoscere le spezie del commercio equo
DTSTART;TZID=Europe/Rome;VALUE=DATE-TIME:20251108T160000
DTEND;TZID=Europe/Rome;VALUE=DATE-TIME:20251108T170000
DTSTAMP;VALUE=DATE-TIME:20260421T155250Z
UID:78ab655a8c9340cb83fb52801a8b246f@www.baccanaleimola.it
CATEGORIES:Baccanale 2025,Baccanale in boutique,presentazione,spezie
CREATED;VALUE=DATE-TIME:20250918T113152Z
DESCRIPTION:Presentazione delle spezie del progetto Podie Sri Lanka con de
 clinazione pratica per l'utilizzo in cucina.
LAST-MODIFIED;VALUE=DATE-TIME:20250918T135122Z
URL:https://www.baccanaleimola.it/api/programma/conoscere-le-spezie-del-co
 mmercio-equo
END:VEVENT
BEGIN:VTIMEZONE
TZID:Europe/Rome
X-LIC-LOCATION:Europe/Rome
BEGIN:STANDARD
DTSTART;VALUE=DATE-TIME:20251026T020000
TZNAME:CET
TZOFFSETFROM:+0200
TZOFFSETTO:+0100
END:STANDARD
END:VTIMEZONE
END:VCALENDAR
