BEGIN:VCALENDAR
VERSION:2.0
PRODID:-//Plone.org//NONSGML plone.app.event//EN
X-WR-TIMEZONE:Europe/Rome
BEGIN:VEVENT
SUMMARY:CENA IN NOCETO
DTSTART;TZID=Europe/Rome;VALUE=DATE-TIME:20251025T190000
DTEND;TZID=Europe/Rome;VALUE=DATE-TIME:20251025T220000
DTSTAMP;VALUE=DATE-TIME:20260421T173039Z
UID:dc1779df828947f0a9ca6fb3c570c126@www.baccanaleimola.it
CATEGORIES:Baccanale 2025,spezie,cena
CREATED;VALUE=DATE-TIME:20250915T084423Z
DESCRIPTION:Cena in Noceto con degustazione di Vini del Rapace
LAST-MODIFIED;VALUE=DATE-TIME:20250917T085302Z
URL:https://www.baccanaleimola.it/api/programma/cena-in-noceto
END:VEVENT
BEGIN:VTIMEZONE
TZID:Europe/Rome
X-LIC-LOCATION:Europe/Rome
BEGIN:DAYLIGHT
DTSTART;VALUE=DATE-TIME:20250330T030000
TZNAME:CEST
TZOFFSETFROM:+0100
TZOFFSETTO:+0200
END:DAYLIGHT
END:VTIMEZONE
END:VCALENDAR
