BEGIN:VCALENDAR
VERSION:2.0
PRODID:-//Plone.org//NONSGML plone.app.event//EN
X-WR-TIMEZONE:Europe/Rome
BEGIN:VEVENT
SUMMARY:CASANOVA AMANTE… DI CIBI
DTSTART;TZID=Europe/Rome;VALUE=DATE-TIME:20251114T200000
DTEND;TZID=Europe/Rome;VALUE=DATE-TIME:20251114T220000
DTSTAMP;VALUE=DATE-TIME:20260421T173057Z
UID:cccedbc88cb948619da9a4628c1671d2@www.baccanaleimola.it
CATEGORIES:Baccanale 2025,spezie,cena
CREATED;VALUE=DATE-TIME:20250916T113315Z
DESCRIPTION:Nel bicentenario della nascita scopriamo che il gourmet batte 
 il seduttore con 120 ricette contro 116 donne. \nCena su prenotazione. A c
 ura del Comitato di Imola Società Dante Alighieri\nInfo e prenotazioni: f
 abrizia.fiumi@gmail.com\, 331 7877662
LAST-MODIFIED;VALUE=DATE-TIME:20250917T085326Z
URL:https://www.baccanaleimola.it/api/programma/casanova-amante-di-cibi
END:VEVENT
BEGIN:VTIMEZONE
TZID:Europe/Rome
X-LIC-LOCATION:Europe/Rome
BEGIN:STANDARD
DTSTART;VALUE=DATE-TIME:20251026T020000
TZNAME:CET
TZOFFSETFROM:+0200
TZOFFSETTO:+0100
END:STANDARD
END:VTIMEZONE
END:VCALENDAR
