BEGIN:VCALENDAR
VERSION:2.0
PRODID:-//Plone.org//NONSGML plone.app.event//EN
X-WR-TIMEZONE:Europe/Rome
BEGIN:VEVENT
SUMMARY:CANNAMELA: SAPORI E SAPERI
DTSTART;TZID=Europe/Rome;VALUE=DATE-TIME:20251107T180000
DTEND;TZID=Europe/Rome;VALUE=DATE-TIME:20251107T190000
DTSTAMP;VALUE=DATE-TIME:20260421T172151Z
UID:00b4cb474091442694c41a16bd8a08eb@www.baccanaleimola.it
CATEGORIES:Baccanale 2025,spezie
CREATED;VALUE=DATE-TIME:20250916T074454Z
DESCRIPTION:Scopri le proprietà delle spezie mentre prendono vita piatti 
 ricchi di gusto. A cura della food blogger Bettina Balzani (@Bettinaincuci
 na) e della Dott.ssa Francesca Baccilieri\, Sensory e R&D Manager Cannamel
 a\nIngresso libero. Info e prenotazioni: attivita.culturali@comune.imola.b
 o.it – 0542 602300\n
LAST-MODIFIED;VALUE=DATE-TIME:20251017T081027Z
URL:https://www.baccanaleimola.it/api/programma/cannamela-sapori-e-saperi
END:VEVENT
BEGIN:VTIMEZONE
TZID:Europe/Rome
X-LIC-LOCATION:Europe/Rome
BEGIN:STANDARD
DTSTART;VALUE=DATE-TIME:20251026T020000
TZNAME:CET
TZOFFSETFROM:+0200
TZOFFSETTO:+0100
END:STANDARD
END:VTIMEZONE
END:VCALENDAR
